BEGIN:VCALENDAR
VERSION:2.0
PRODID:-//Squarespace Inc/Squarespace 6//v6//EN
BEGIN:VEVENT
UID:58a6d443e4fcb5be3ff0cf2c@squarespace.com
DTSTAMP:20170217T104922Z
DTSTART:20161123T050000Z
DTEND:20161123T060000Z
SUMMARY:Make Workshop
GEO:-37.772718;175.293987
LOCATION:Environment Centre\, 242 Peachgrove Road\, Hamilton\, Waikato\, 32
 14\, New Zealand
END:VEVENT
END:VCALENDAR
