BEGIN:VCALENDAR
VERSION:2.0
PRODID:-//Squarespace Inc/Squarespace 6//v6//EN
BEGIN:VEVENT
UID:58a6d58e15d5dba87a136917@squarespace.com
DTSTAMP:20170217T105402Z
DTSTART:20170318T010000Z
DTEND:20170318T030000Z
SUMMARY:Possible MAKE workshop *TBC* 
GEO:-37.812502;175.383789
LOCATION:The Dairy Farmers Daughter\, Tauwhare Road\, Tamahere\, Waikato\, 
 New Zealand
END:VEVENT
END:VCALENDAR
