BEGIN:VCALENDAR
VERSION:2.0
PRODID:-//Squarespace Inc/Squarespace 6//v6//EN
BEGIN:VEVENT
UID:5a7a14808165f570c8bf5f95@squarespace.com
DTSTAMP:20180206T224858Z
DTSTART:20180313T220000Z
DTEND:20180313T233000Z
SUMMARY:MAKE Workshop - Frankton\, Hamilton
END:VEVENT
END:VCALENDAR
