BEGIN:VCALENDAR
VERSION:2.0
PRODID:-//Squarespace Inc/Squarespace 6//v6//EN
BEGIN:VEVENT
UID:5db0c2d1c44bb83f32a46f13@squarespace.com
DTSTAMP:20191023T211603Z
DTSTART:20191020T000000Z
DTEND:20191020T020000Z
SUMMARY:Te Aroha Cubs and Scouts MAKE Fundraising Workshop
END:VEVENT
END:VCALENDAR
