BEGIN:VCALENDAR
VERSION:2.0
PRODID:-//Squarespace Inc/Squarespace 6//v6//EN
BEGIN:VEVENT
UID:5db0c3859697450d042511f3@squarespace.com
DTSTAMP:20191023T212516Z
DTSTART:20191121T220000Z
DTEND:20191122T000000Z
SUMMARY:Last MAKE Workshop for 2019
END:VEVENT
END:VCALENDAR
