BEGIN:VCALENDAR
VERSION:2.0
PRODID:-//Squarespace Inc/Squarespace 6//v6//EN
BEGIN:VEVENT
UID:5c945e9271c10b1e8877e98a@squarespace.com
DTSTAMP:20190322T040517Z
DTSTART:20190317T010000Z
DTEND:20190317T030000Z
SUMMARY:Waipa District Council Sponsored MAKE Workshop
END:VEVENT
END:VCALENDAR
