BEGIN:VCALENDAR
VERSION:2.0
PRODID:-//Squarespace Inc/Squarespace 6//v6//EN
BEGIN:VEVENT
UID:5c946225fa0d6050517127f7@squarespace.com
DTSTAMP:20190322T042025Z
DTSTART:20190301T210000Z
DTEND:20190302T023000Z
SUMMARY:Piopio Fundraiser - 2x MAKE Workshops
END:VEVENT
END:VCALENDAR
