BEGIN:VCALENDAR
VERSION:2.0
PRODID:-//Squarespace Inc/Squarespace 6//v6//EN
BEGIN:VEVENT
UID:5c945f06b208fc7b14631c7b@squarespace.com
DTSTAMP:20190322T041515Z
DTSTART:20190323T010000Z
DTEND:20190323T030000Z
SUMMARY:Waipa District Council sponsored MAKE Workshop
END:VEVENT
END:VCALENDAR
