BEGIN:VCALENDAR
VERSION:2.0
PRODID:-//Squarespace Inc/Squarespace 6//v6//EN
BEGIN:VEVENT
UID:5c945dfc9140b7492ea85a08@squarespace.com
DTSTAMP:20190322T041746Z
DTSTART:20190308T220000Z
DTEND:20190309T000000Z
SUMMARY:MAKE Workshop in Otorohanga  - Fundraiser
END:VEVENT
END:VCALENDAR
