BEGIN:VCALENDAR
VERSION:2.0
PRODID:-//Squarespace Inc/Squarespace 6//v6//EN
BEGIN:VEVENT
UID:5caa9e716e9a7f4f2c497710@squarespace.com
DTSTAMP:20190408T010705Z
DTSTART:20190413T013000Z
DTEND:20190426T023000Z
SUMMARY:School Holidays
END:VEVENT
END:VCALENDAR
