BEGIN:VCALENDAR
VERSION:2.0
PRODID:-//Squarespace Inc/Squarespace 6//v6//EN
BEGIN:VEVENT
UID:5d3a2608687d070001fe9041@squarespace.com
DTSTAMP:20190725T223339Z
DTSTART:20190731T060000Z
DTEND:20190731T080000Z
SUMMARY:MAKE (Evening) Workshop ~ Fundraising Event for the Hillcrest High 
 ILC Student Camp.
GEO:-37.792586;175.327713
LOCATION:Hillcrest High School Auditourm\, 141 Masters Avenue\, Hamilton\, 
 Waikato\, 3216\, New Zealand
END:VEVENT
END:VCALENDAR
