BEGIN:VCALENDAR
VERSION:2.0
PRODID:-//Squarespace Inc/Squarespace 6//v6//EN
BEGIN:VEVENT
UID:5b831d116d2a73bb5c1c4976@squarespace.com
DTSTAMP:20180826T220002Z
DTSTART:20180907T123000Z
DTEND:20180908T023000Z
SUMMARY:MAKE Workshop ~ Fundraising Event for 
GEO:-37.786149;175.301504
LOCATION:Patricia Avenue School\, Patricia Avenue School\, Hamilton\, New Z
 ealand
END:VEVENT
END:VCALENDAR
